BEGIN:VCALENDAR
VERSION:2.0
PRODID:-//Uncas Health District - ECPv6.15.20//NONSGML v1.0//EN
CALSCALE:GREGORIAN
METHOD:PUBLISH
X-WR-CALNAME:Uncas Health District
X-ORIGINAL-URL:https://uncashd.org
X-WR-CALDESC:Events for Uncas Health District
REFRESH-INTERVAL;VALUE=DURATION:PT1H
X-Robots-Tag:noindex
X-PUBLISHED-TTL:PT1H
BEGIN:VTIMEZONE
TZID:America/New_York
BEGIN:DAYLIGHT
TZOFFSETFROM:-0500
TZOFFSETTO:-0400
TZNAME:EDT
DTSTART:20230312T070000
END:DAYLIGHT
BEGIN:STANDARD
TZOFFSETFROM:-0400
TZOFFSETTO:-0500
TZNAME:EST
DTSTART:20231105T060000
END:STANDARD
BEGIN:DAYLIGHT
TZOFFSETFROM:-0500
TZOFFSETTO:-0400
TZNAME:EDT
DTSTART:20240310T070000
END:DAYLIGHT
BEGIN:STANDARD
TZOFFSETFROM:-0400
TZOFFSETTO:-0500
TZNAME:EST
DTSTART:20241103T060000
END:STANDARD
BEGIN:DAYLIGHT
TZOFFSETFROM:-0500
TZOFFSETTO:-0400
TZNAME:EDT
DTSTART:20250309T070000
END:DAYLIGHT
BEGIN:STANDARD
TZOFFSETFROM:-0400
TZOFFSETTO:-0500
TZNAME:EST
DTSTART:20251102T060000
END:STANDARD
BEGIN:DAYLIGHT
TZOFFSETFROM:-0500
TZOFFSETTO:-0400
TZNAME:EDT
DTSTART:20260308T070000
END:DAYLIGHT
BEGIN:STANDARD
TZOFFSETFROM:-0400
TZOFFSETTO:-0500
TZNAME:EST
DTSTART:20261101T060000
END:STANDARD
END:VTIMEZONE
BEGIN:VEVENT
DTSTART;TZID=America/New_York:20250501T093000
DTEND;TZID=America/New_York:20250501T103000
DTSTAMP:20260421T145341
CREATED:20250430T200222Z
LAST-MODIFIED:20250430T200222Z
UID:10001524-1746091800-1746095400@uncashd.org
SUMMARY:Mobile Health Team
DESCRIPTION:We offer the following services at all of our events: \nblood pressure screening\, flu vaccination\, illness prevention\, smoking cessation information\, harm reduction services\, Hepatitis C / HIV screening\, syringe services\, wound care education\, STI prevention\, and seasonal health education.
URL:https://uncashd.org/event/mobile-health-team-2/
LOCATION:Lisbon Senior Center\, 11 Newent Road\, Lisbon\, CT\, United States
CATEGORIES:Mobile Health Team Event
END:VEVENT
BEGIN:VEVENT
DTSTART;TZID=America/New_York:20250403T093000
DTEND;TZID=America/New_York:20250403T103000
DTSTAMP:20260421T145341
CREATED:20250402T171532Z
LAST-MODIFIED:20250402T171532Z
UID:10001385-1743672600-1743676200@uncashd.org
SUMMARY:Mobile Health Team @ Lisbon Senior Center
DESCRIPTION:We offer the following services at all of our events: \nblood pressure screening\, flu vaccination\, illness prevention\, smoking cessation information\, harm reduction services\, Hepatitis C / HIV screening\, syringe services\, wound care education\, STI prevention\, and seasonal health education.
URL:https://uncashd.org/event/mobile-health-team-lisbon-senior-center/
LOCATION:Lisbon Senior Center\, 11 Newent Road\, Lisbon\, CT\, United States
CATEGORIES:Mobile Health Team Event
END:VEVENT
BEGIN:VEVENT
DTSTART;TZID=America/New_York:20250306T093000
DTEND;TZID=America/New_York:20250306T103000
DTSTAMP:20260421T145341
CREATED:20250226T223050Z
LAST-MODIFIED:20250226T223050Z
UID:10001294-1741253400-1741257000@uncashd.org
SUMMARY:Mobile Health Team in Lisbon
DESCRIPTION:The UNCAS Mobile Health Team is dedicated to directly bringing essential health services and education to our community. At every event\, we offer: \nBlood pressure screening \nFlu vaccination \nIllness prevention guidance \nSmoking cessation resources \nHarm reduction services \nHepatitis C and HIV screening \nSyringe services \nWound care education \nSTI prevention education \nSeasonal health education tailored to current needs \nStop by and take advantage of these free services to support your health and wellness!
URL:https://uncashd.org/event/mobile-health-team-in-lisbon-2/
LOCATION:Lisbon Senior Center\, 11 Newent Road\, Lisbon\, CT\, United States
CATEGORIES:Mobile Health Team Event
END:VEVENT
BEGIN:VEVENT
DTSTART;TZID=America/New_York:20250206T093000
DTEND;TZID=America/New_York:20250206T223000
DTSTAMP:20260421T145341
CREATED:20250131T174523Z
LAST-MODIFIED:20250131T174523Z
UID:10001243-1738834200-1738881000@uncashd.org
SUMMARY:Mobile Health Team in Lisbon
DESCRIPTION:The UNCAS Mobile Health Team is dedicated to bringing essential health services and education directly to our community. At every event\, we offer: \n  \nBlood pressure screening \nFlu vaccination \nIllness prevention guidance \nSmoking cessation resources \nHarm reduction services \nHepatitis C and HIV screening \nSyringe services \nWound care education \nSTI prevention education \nSeasonal health education tailored to current needs \nStop by and take advantage of these free services to support your health and wellness! \n 
URL:https://uncashd.org/event/mobile-health-team-in-lisbon/
LOCATION:Lisbon Senior Center\, 11 Newent Road\, Lisbon\, CT\, United States
CATEGORIES:Mobile Health Team Event
END:VEVENT
BEGIN:VEVENT
DTSTART;TZID=America/New_York:20241205T093000
DTEND;TZID=America/New_York:20241205T103000
DTSTAMP:20260421T145341
CREATED:20241205T000439Z
LAST-MODIFIED:20241205T000439Z
UID:10001192-1733391000-1733394600@uncashd.org
SUMMARY:Mobile Health Team Event
DESCRIPTION:At each event\, we provide a comprehensive range of critical services\, including: \n\nFlu Vaccines – Beginning October 2024\nBlood Pressure Screenings\nIllness Prevention\nLead Poisoning Prevention\nTick and Mosquito-Borne Illness Education\nTick Removal and Testing\nRapid Hepatitis C and HIV Testing\nSyringe Services\nSuicide Prevention\nFood-Borne Illness Prevention\nHarm Reduction Services\nSexually Transmitted Infection Protection\nConnection to Care Providers
URL:https://uncashd.org/event/mobile-health-team-event/
LOCATION:Lisbon Senior Center\, 11 Newent Road\, Lisbon\, CT\, United States
CATEGORIES:Mobile Health Team Event
END:VEVENT
BEGIN:VEVENT
DTSTART;TZID=America/New_York:20241107T093000
DTEND;TZID=America/New_York:20241107T103000
DTSTAMP:20260421T145341
CREATED:20241031T205136Z
LAST-MODIFIED:20241031T205136Z
UID:10001168-1730971800-1730975400@uncashd.org
SUMMARY:Mobile Health Team Popup
DESCRIPTION:The Uncas Health District Mobile Health Team is offering: \n\nFlu Vaccines\nBlood Pressure Screening\nHepatitis C/HIV Screening\nSyringe Services\nWound Care Education\nInformation on additional health services\n\nFlu Shots Available on the Mobile Health Van \n\nFree for individuals with the following insurance:\n\nAnthem BC/BS\nCigna\nConnectiCare\nMedicare\nTriCare\nUnitedHealthcare\n\n\n$20 for the Standard Dose Flu Vaccine for those with other or no insurance\n\n$65 for the High Dose Flu Vaccine for those with other or no insurance
URL:https://uncashd.org/event/mobile-health-team-popup-42/
LOCATION:Lisbon Senior Center\, 11 Newent Road\, Lisbon\, CT\, United States
CATEGORIES:Mobile Health Team Event
END:VEVENT
BEGIN:VEVENT
DTSTART;TZID=America/New_York:20241003T093000
DTEND;TZID=America/New_York:20241003T223000
DTSTAMP:20260421T145341
CREATED:20241001T185542Z
LAST-MODIFIED:20241001T185542Z
UID:10001124-1727947800-1727994600@uncashd.org
SUMMARY:Mobile Health Team Popup
DESCRIPTION:The Uncas Health District Mobile Health Team is offering: \n\nFlu Vaccines\nBlood Pressure Screening\nHepatitis C/HIV Screening\nSyringe Services\nWound Care Education\nInformation on additional health services\n\nFlu Shots Available on the Mobile Health Van \n\nFree for individuals with the following insurance:\n\nAnthem BC/BS\nCigna\nConnectiCare\nMedicare\nTriCare\nUnitedHealthcare\n\n\n$20 for the Standard Dose Flu Vaccine for those with other or no insurance\n$65 for the High Dose Flu Vaccine for those with other or no insurance
URL:https://uncashd.org/event/mobile-health-team-popup-4/
LOCATION:Lisbon Senior Center\, 11 Newent Road\, Lisbon\, CT\, United States
CATEGORIES:Mobile Health Team Event
END:VEVENT
END:VCALENDAR