BEGIN:VCALENDAR
VERSION:2.0
PRODID:-//Uncas Health District - ECPv6.15.20//NONSGML v1.0//EN
CALSCALE:GREGORIAN
METHOD:PUBLISH
X-ORIGINAL-URL:https://uncashd.org
X-WR-CALDESC:Events for Uncas Health District
REFRESH-INTERVAL;VALUE=DURATION:PT1H
X-Robots-Tag:noindex
X-PUBLISHED-TTL:PT1H
BEGIN:VTIMEZONE
TZID:America/New_York
BEGIN:DAYLIGHT
TZOFFSETFROM:-0500
TZOFFSETTO:-0400
TZNAME:EDT
DTSTART:20230312T070000
END:DAYLIGHT
BEGIN:STANDARD
TZOFFSETFROM:-0400
TZOFFSETTO:-0500
TZNAME:EST
DTSTART:20231105T060000
END:STANDARD
BEGIN:DAYLIGHT
TZOFFSETFROM:-0500
TZOFFSETTO:-0400
TZNAME:EDT
DTSTART:20240310T070000
END:DAYLIGHT
BEGIN:STANDARD
TZOFFSETFROM:-0400
TZOFFSETTO:-0500
TZNAME:EST
DTSTART:20241103T060000
END:STANDARD
BEGIN:DAYLIGHT
TZOFFSETFROM:-0500
TZOFFSETTO:-0400
TZNAME:EDT
DTSTART:20250309T070000
END:DAYLIGHT
BEGIN:STANDARD
TZOFFSETFROM:-0400
TZOFFSETTO:-0500
TZNAME:EST
DTSTART:20251102T060000
END:STANDARD
END:VTIMEZONE
BEGIN:VEVENT
DTSTART;TZID=America/New_York:20240820T100000
DTEND;TZID=America/New_York:20240820T113000
DTSTAMP:20260425T094859
CREATED:20240725T181905Z
LAST-MODIFIED:20240725T181905Z
UID:10001092-1724148000-1724153400@uncashd.org
SUMMARY:Mobile Health Team
DESCRIPTION:Offering flu vaccines\, blood pressure screening\, Hepatitis C / HIV screening\, syringe services\, wound care education\, and information about other health services provided by the Uncas Health District.
URL:https://uncashd.org/event/mobile-health-team-79/
LOCATION:Franklin Senior Center\, 5 Tyler Drive\, North Franklin\, CT\, 06254\, United States
CATEGORIES:Mobile Health Team Event
END:VEVENT
BEGIN:VEVENT
DTSTART;TZID=America/New_York:20240820T140000
DTEND;TZID=America/New_York:20240820T150000
DTSTAMP:20260425T094859
CREATED:20240725T181956Z
LAST-MODIFIED:20240725T181956Z
UID:10001093-1724162400-1724166000@uncashd.org
SUMMARY:Mobile Health Team
DESCRIPTION:Offering flu vaccines\, blood pressure screening\, Hepatitis C / HIV screening\, syringe services\, wound care education\, and information about other health services provided by the Uncas Health District.
URL:https://uncashd.org/event/mobile-health-team-80/
LOCATION:Griswold Town Hall\, 28 Main St\, Griswold\, CT\, 06351\, United States
CATEGORIES:Mobile Health Team Event
END:VEVENT
BEGIN:VEVENT
DTSTART;TZID=America/New_York:20240821T103000
DTEND;TZID=America/New_York:20240821T130000
DTSTAMP:20260425T094859
CREATED:20240725T182037Z
LAST-MODIFIED:20240725T182037Z
UID:10001094-1724236200-1724245200@uncashd.org
SUMMARY:Mobile Health Team
DESCRIPTION:Offering flu vaccines\, blood pressure screening\, Hepatitis C / HIV screening\, syringe services\, wound care education\, and information about other health services provided by the Uncas Health District.
URL:https://uncashd.org/event/mobile-health-team-81/
LOCATION:St Vincent DePaul Place\, 120 Cliff Street\, Norwich\, CT\, 06360\, United States
CATEGORIES:Mobile Health Team Event
END:VEVENT
BEGIN:VEVENT
DTSTART;TZID=America/New_York:20240821T130000
DTEND;TZID=America/New_York:20240821T140000
DTSTAMP:20260425T094859
CREATED:20240725T182126Z
LAST-MODIFIED:20240725T182126Z
UID:10001095-1724245200-1724248800@uncashd.org
SUMMARY:Mobile Health Team
DESCRIPTION:Offering flu vaccines\, blood pressure screening\, Hepatitis C / HIV screening\, syringe services\, wound care education\, and information about other health services provided by the Uncas Health District.
URL:https://uncashd.org/event/mobile-health-team-82/
LOCATION:Mobile Food Pantry – Dodd Stadium\, 14 Stott Ave\, Norwich\, CT\, 06360\, United States
CATEGORIES:Mobile Health Team Event
END:VEVENT
BEGIN:VEVENT
DTSTART;TZID=America/New_York:20240821T140000
DTEND;TZID=America/New_York:20240821T150000
DTSTAMP:20260425T094859
CREATED:20240725T182215Z
LAST-MODIFIED:20240725T182215Z
UID:10001096-1724248800-1724252400@uncashd.org
SUMMARY:Mobile Health Team
DESCRIPTION:Offering flu vaccines\, blood pressure screening\, Hepatitis C / HIV screening\, syringe services\, wound care education\, and information about other health services provided by the Uncas Health District.
URL:https://uncashd.org/event/mobile-health-team-83/
LOCATION:Montville Town Hall\, 310 Norwich-New London Turnpike\, Uncasville\, 06382\, United States
CATEGORIES:Mobile Health Team Event
END:VEVENT
BEGIN:VEVENT
DTSTART;TZID=America/New_York:20240821T160000
DTEND;TZID=America/New_York:20240821T173000
DTSTAMP:20260425T094859
CREATED:20240725T182306Z
LAST-MODIFIED:20240725T182306Z
UID:10001097-1724256000-1724261400@uncashd.org
SUMMARY:Mobile Health Team
DESCRIPTION:Offering flu vaccines\, blood pressure screening\, Hepatitis C / HIV screening\, syringe services\, wound care education\, and information about other health services provided by the Uncas Health District.
URL:https://uncashd.org/event/mobile-health-team-84/
LOCATION:MOBILE FOOD PANTRY at Three Rivers Community College\, Norwich\, 574 New London Turnpike\, Norwich\, CT\, United States
CATEGORIES:Mobile Health Team Event
END:VEVENT
BEGIN:VEVENT
DTSTART;VALUE=DATE:20240822
DTEND;VALUE=DATE:20240823
DTSTAMP:20260425T094859
CREATED:20230206T225757Z
LAST-MODIFIED:20251230T211909Z
UID:10000492-1724284800-1724371199@uncashd.org
SUMMARY:Flu Vaccine Clinic at UHD
DESCRIPTION:Appointment only
URL:https://uncashd.org/event/flu-vaccine-clinic-at-uhd/2024-08-22/
LOCATION:UNCAS HEALTH DISTRICT OFFICE\, Campbell Building\, 401 West Thames Street\, Norwich\, CT\, 06360\, United States
CATEGORIES:COVID-19 Vaccination,Flu Vaccination
GEO:41.5109705;-72.0854628
X-APPLE-STRUCTURED-LOCATION;VALUE=URI;X-ADDRESS=UNCAS HEALTH DISTRICT OFFICE Campbell Building 401 West Thames Street Norwich CT 06360 United States;X-APPLE-RADIUS=500;X-TITLE=Campbell Building\, 401 West Thames Street:geo:-72.0854628,41.5109705
END:VEVENT
END:VCALENDAR