BEGIN:VCALENDAR
VERSION:2.0
PRODID:-//Uncas Health District - ECPv6.15.20//NONSGML v1.0//EN
CALSCALE:GREGORIAN
METHOD:PUBLISH
X-ORIGINAL-URL:https://uncashd.org
X-WR-CALDESC:Events for Uncas Health District
REFRESH-INTERVAL;VALUE=DURATION:PT1H
X-Robots-Tag:noindex
X-PUBLISHED-TTL:PT1H
BEGIN:VTIMEZONE
TZID:America/New_York
BEGIN:DAYLIGHT
TZOFFSETFROM:-0500
TZOFFSETTO:-0400
TZNAME:EDT
DTSTART:20230312T070000
END:DAYLIGHT
BEGIN:STANDARD
TZOFFSETFROM:-0400
TZOFFSETTO:-0500
TZNAME:EST
DTSTART:20231105T060000
END:STANDARD
BEGIN:DAYLIGHT
TZOFFSETFROM:-0500
TZOFFSETTO:-0400
TZNAME:EDT
DTSTART:20240310T070000
END:DAYLIGHT
BEGIN:STANDARD
TZOFFSETFROM:-0400
TZOFFSETTO:-0500
TZNAME:EST
DTSTART:20241103T060000
END:STANDARD
BEGIN:DAYLIGHT
TZOFFSETFROM:-0500
TZOFFSETTO:-0400
TZNAME:EDT
DTSTART:20250309T070000
END:DAYLIGHT
BEGIN:STANDARD
TZOFFSETFROM:-0400
TZOFFSETTO:-0500
TZNAME:EST
DTSTART:20251102T060000
END:STANDARD
BEGIN:DAYLIGHT
TZOFFSETFROM:-0500
TZOFFSETTO:-0400
TZNAME:EDT
DTSTART:20260308T070000
END:DAYLIGHT
BEGIN:STANDARD
TZOFFSETFROM:-0400
TZOFFSETTO:-0500
TZNAME:EST
DTSTART:20261101T060000
END:STANDARD
END:VTIMEZONE
BEGIN:VEVENT
DTSTART;VALUE=DATE:20250220
DTEND;VALUE=DATE:20250221
DTSTAMP:20260421T095521
CREATED:20230206T225757Z
LAST-MODIFIED:20251230T211909Z
UID:10000600-1740009600-1740095999@uncashd.org
SUMMARY:Flu Vaccine Clinic at UHD
DESCRIPTION:Appointment only
URL:https://uncashd.org/event/flu-vaccine-clinic-at-uhd/2025-02-20/
LOCATION:UNCAS HEALTH DISTRICT OFFICE\, Campbell Building\, 401 West Thames Street\, Norwich\, CT\, 06360\, United States
CATEGORIES:COVID-19 Vaccination,Flu Vaccination
GEO:41.5109705;-72.0854628
X-APPLE-STRUCTURED-LOCATION;VALUE=URI;X-ADDRESS=UNCAS HEALTH DISTRICT OFFICE Campbell Building 401 West Thames Street Norwich CT 06360 United States;X-APPLE-RADIUS=500;X-TITLE=Campbell Building\, 401 West Thames Street:geo:-72.0854628,41.5109705
END:VEVENT
BEGIN:VEVENT
DTSTART;VALUE=DATE:20250213
DTEND;VALUE=DATE:20250214
DTSTAMP:20260421T095521
CREATED:20230206T225757Z
LAST-MODIFIED:20251230T211909Z
UID:10000599-1739404800-1739491199@uncashd.org
SUMMARY:Flu Vaccine Clinic at UHD
DESCRIPTION:Appointment only
URL:https://uncashd.org/event/flu-vaccine-clinic-at-uhd/2025-02-13/
LOCATION:UNCAS HEALTH DISTRICT OFFICE\, Campbell Building\, 401 West Thames Street\, Norwich\, CT\, 06360\, United States
CATEGORIES:COVID-19 Vaccination,Flu Vaccination
GEO:41.5109705;-72.0854628
X-APPLE-STRUCTURED-LOCATION;VALUE=URI;X-ADDRESS=UNCAS HEALTH DISTRICT OFFICE Campbell Building 401 West Thames Street Norwich CT 06360 United States;X-APPLE-RADIUS=500;X-TITLE=Campbell Building\, 401 West Thames Street:geo:-72.0854628,41.5109705
END:VEVENT
BEGIN:VEVENT
DTSTART;VALUE=DATE:20250206
DTEND;VALUE=DATE:20250207
DTSTAMP:20260421T095521
CREATED:20230206T225757Z
LAST-MODIFIED:20251230T211909Z
UID:10000516-1738800000-1738886399@uncashd.org
SUMMARY:Flu Vaccine Clinic at UHD
DESCRIPTION:Appointment only
URL:https://uncashd.org/event/flu-vaccine-clinic-at-uhd/2025-02-06/
LOCATION:UNCAS HEALTH DISTRICT OFFICE\, Campbell Building\, 401 West Thames Street\, Norwich\, CT\, 06360\, United States
CATEGORIES:COVID-19 Vaccination,Flu Vaccination
GEO:41.5109705;-72.0854628
X-APPLE-STRUCTURED-LOCATION;VALUE=URI;X-ADDRESS=UNCAS HEALTH DISTRICT OFFICE Campbell Building 401 West Thames Street Norwich CT 06360 United States;X-APPLE-RADIUS=500;X-TITLE=Campbell Building\, 401 West Thames Street:geo:-72.0854628,41.5109705
END:VEVENT
BEGIN:VEVENT
DTSTART;VALUE=DATE:20250130
DTEND;VALUE=DATE:20250131
DTSTAMP:20260421T095521
CREATED:20230206T225757Z
LAST-MODIFIED:20251230T211909Z
UID:10000515-1738195200-1738281599@uncashd.org
SUMMARY:Flu Vaccine Clinic at UHD
DESCRIPTION:Appointment only
URL:https://uncashd.org/event/flu-vaccine-clinic-at-uhd/2025-01-30/
LOCATION:UNCAS HEALTH DISTRICT OFFICE\, Campbell Building\, 401 West Thames Street\, Norwich\, CT\, 06360\, United States
CATEGORIES:COVID-19 Vaccination,Flu Vaccination
GEO:41.5109705;-72.0854628
X-APPLE-STRUCTURED-LOCATION;VALUE=URI;X-ADDRESS=UNCAS HEALTH DISTRICT OFFICE Campbell Building 401 West Thames Street Norwich CT 06360 United States;X-APPLE-RADIUS=500;X-TITLE=Campbell Building\, 401 West Thames Street:geo:-72.0854628,41.5109705
END:VEVENT
BEGIN:VEVENT
DTSTART;VALUE=DATE:20250123
DTEND;VALUE=DATE:20250124
DTSTAMP:20260421T095521
CREATED:20230206T225757Z
LAST-MODIFIED:20251230T211909Z
UID:10000514-1737590400-1737676799@uncashd.org
SUMMARY:Flu Vaccine Clinic at UHD
DESCRIPTION:Appointment only
URL:https://uncashd.org/event/flu-vaccine-clinic-at-uhd/2025-01-23/
LOCATION:UNCAS HEALTH DISTRICT OFFICE\, Campbell Building\, 401 West Thames Street\, Norwich\, CT\, 06360\, United States
CATEGORIES:COVID-19 Vaccination,Flu Vaccination
GEO:41.5109705;-72.0854628
X-APPLE-STRUCTURED-LOCATION;VALUE=URI;X-ADDRESS=UNCAS HEALTH DISTRICT OFFICE Campbell Building 401 West Thames Street Norwich CT 06360 United States;X-APPLE-RADIUS=500;X-TITLE=Campbell Building\, 401 West Thames Street:geo:-72.0854628,41.5109705
END:VEVENT
BEGIN:VEVENT
DTSTART;VALUE=DATE:20250116
DTEND;VALUE=DATE:20250117
DTSTAMP:20260421T095521
CREATED:20230206T225757Z
LAST-MODIFIED:20251230T211909Z
UID:10000513-1736985600-1737071999@uncashd.org
SUMMARY:Flu Vaccine Clinic at UHD
DESCRIPTION:Appointment only
URL:https://uncashd.org/event/flu-vaccine-clinic-at-uhd/2025-01-16/
LOCATION:UNCAS HEALTH DISTRICT OFFICE\, Campbell Building\, 401 West Thames Street\, Norwich\, CT\, 06360\, United States
CATEGORIES:COVID-19 Vaccination,Flu Vaccination
GEO:41.5109705;-72.0854628
X-APPLE-STRUCTURED-LOCATION;VALUE=URI;X-ADDRESS=UNCAS HEALTH DISTRICT OFFICE Campbell Building 401 West Thames Street Norwich CT 06360 United States;X-APPLE-RADIUS=500;X-TITLE=Campbell Building\, 401 West Thames Street:geo:-72.0854628,41.5109705
END:VEVENT
BEGIN:VEVENT
DTSTART;VALUE=DATE:20250109
DTEND;VALUE=DATE:20250110
DTSTAMP:20260421T095521
CREATED:20230206T225757Z
LAST-MODIFIED:20251230T211909Z
UID:10000512-1736380800-1736467199@uncashd.org
SUMMARY:Flu Vaccine Clinic at UHD
DESCRIPTION:Appointment only
URL:https://uncashd.org/event/flu-vaccine-clinic-at-uhd/2025-01-09/
LOCATION:UNCAS HEALTH DISTRICT OFFICE\, Campbell Building\, 401 West Thames Street\, Norwich\, CT\, 06360\, United States
CATEGORIES:COVID-19 Vaccination,Flu Vaccination
GEO:41.5109705;-72.0854628
X-APPLE-STRUCTURED-LOCATION;VALUE=URI;X-ADDRESS=UNCAS HEALTH DISTRICT OFFICE Campbell Building 401 West Thames Street Norwich CT 06360 United States;X-APPLE-RADIUS=500;X-TITLE=Campbell Building\, 401 West Thames Street:geo:-72.0854628,41.5109705
END:VEVENT
BEGIN:VEVENT
DTSTART;VALUE=DATE:20250102
DTEND;VALUE=DATE:20250103
DTSTAMP:20260421T095521
CREATED:20230206T225757Z
LAST-MODIFIED:20251230T211909Z
UID:10000511-1735776000-1735862399@uncashd.org
SUMMARY:Flu Vaccine Clinic at UHD
DESCRIPTION:Appointment only
URL:https://uncashd.org/event/flu-vaccine-clinic-at-uhd/2025-01-02/
LOCATION:UNCAS HEALTH DISTRICT OFFICE\, Campbell Building\, 401 West Thames Street\, Norwich\, CT\, 06360\, United States
CATEGORIES:COVID-19 Vaccination,Flu Vaccination
GEO:41.5109705;-72.0854628
X-APPLE-STRUCTURED-LOCATION;VALUE=URI;X-ADDRESS=UNCAS HEALTH DISTRICT OFFICE Campbell Building 401 West Thames Street Norwich CT 06360 United States;X-APPLE-RADIUS=500;X-TITLE=Campbell Building\, 401 West Thames Street:geo:-72.0854628,41.5109705
END:VEVENT
BEGIN:VEVENT
DTSTART;VALUE=DATE:20241226
DTEND;VALUE=DATE:20241227
DTSTAMP:20260421T095521
CREATED:20230206T225757Z
LAST-MODIFIED:20251230T211909Z
UID:10000510-1735171200-1735257599@uncashd.org
SUMMARY:Flu Vaccine Clinic at UHD
DESCRIPTION:Appointment only
URL:https://uncashd.org/event/flu-vaccine-clinic-at-uhd/2024-12-26/
LOCATION:UNCAS HEALTH DISTRICT OFFICE\, Campbell Building\, 401 West Thames Street\, Norwich\, CT\, 06360\, United States
CATEGORIES:COVID-19 Vaccination,Flu Vaccination
GEO:41.5109705;-72.0854628
X-APPLE-STRUCTURED-LOCATION;VALUE=URI;X-ADDRESS=UNCAS HEALTH DISTRICT OFFICE Campbell Building 401 West Thames Street Norwich CT 06360 United States;X-APPLE-RADIUS=500;X-TITLE=Campbell Building\, 401 West Thames Street:geo:-72.0854628,41.5109705
END:VEVENT
BEGIN:VEVENT
DTSTART;VALUE=DATE:20241219
DTEND;VALUE=DATE:20241220
DTSTAMP:20260421T095521
CREATED:20230206T225757Z
LAST-MODIFIED:20251230T211909Z
UID:10000509-1734566400-1734652799@uncashd.org
SUMMARY:Flu Vaccine Clinic at UHD
DESCRIPTION:Appointment only
URL:https://uncashd.org/event/flu-vaccine-clinic-at-uhd/2024-12-19/
LOCATION:UNCAS HEALTH DISTRICT OFFICE\, Campbell Building\, 401 West Thames Street\, Norwich\, CT\, 06360\, United States
CATEGORIES:COVID-19 Vaccination,Flu Vaccination
GEO:41.5109705;-72.0854628
X-APPLE-STRUCTURED-LOCATION;VALUE=URI;X-ADDRESS=UNCAS HEALTH DISTRICT OFFICE Campbell Building 401 West Thames Street Norwich CT 06360 United States;X-APPLE-RADIUS=500;X-TITLE=Campbell Building\, 401 West Thames Street:geo:-72.0854628,41.5109705
END:VEVENT
BEGIN:VEVENT
DTSTART;VALUE=DATE:20241212
DTEND;VALUE=DATE:20241213
DTSTAMP:20260421T095521
CREATED:20230206T225757Z
LAST-MODIFIED:20251230T211909Z
UID:10000508-1733961600-1734047999@uncashd.org
SUMMARY:Flu Vaccine Clinic at UHD
DESCRIPTION:Appointment only
URL:https://uncashd.org/event/flu-vaccine-clinic-at-uhd/2024-12-12/
LOCATION:UNCAS HEALTH DISTRICT OFFICE\, Campbell Building\, 401 West Thames Street\, Norwich\, CT\, 06360\, United States
CATEGORIES:COVID-19 Vaccination,Flu Vaccination
GEO:41.5109705;-72.0854628
X-APPLE-STRUCTURED-LOCATION;VALUE=URI;X-ADDRESS=UNCAS HEALTH DISTRICT OFFICE Campbell Building 401 West Thames Street Norwich CT 06360 United States;X-APPLE-RADIUS=500;X-TITLE=Campbell Building\, 401 West Thames Street:geo:-72.0854628,41.5109705
END:VEVENT
BEGIN:VEVENT
DTSTART;VALUE=DATE:20241205
DTEND;VALUE=DATE:20241206
DTSTAMP:20260421T095521
CREATED:20230206T225757Z
LAST-MODIFIED:20251230T211909Z
UID:10000507-1733356800-1733443199@uncashd.org
SUMMARY:Flu Vaccine Clinic at UHD
DESCRIPTION:Appointment only
URL:https://uncashd.org/event/flu-vaccine-clinic-at-uhd/2024-12-05/
LOCATION:UNCAS HEALTH DISTRICT OFFICE\, Campbell Building\, 401 West Thames Street\, Norwich\, CT\, 06360\, United States
CATEGORIES:COVID-19 Vaccination,Flu Vaccination
GEO:41.5109705;-72.0854628
X-APPLE-STRUCTURED-LOCATION;VALUE=URI;X-ADDRESS=UNCAS HEALTH DISTRICT OFFICE Campbell Building 401 West Thames Street Norwich CT 06360 United States;X-APPLE-RADIUS=500;X-TITLE=Campbell Building\, 401 West Thames Street:geo:-72.0854628,41.5109705
END:VEVENT
BEGIN:VEVENT
DTSTART;VALUE=DATE:20241128
DTEND;VALUE=DATE:20241129
DTSTAMP:20260421T095521
CREATED:20230206T225757Z
LAST-MODIFIED:20251230T211909Z
UID:10000506-1732752000-1732838399@uncashd.org
SUMMARY:Flu Vaccine Clinic at UHD
DESCRIPTION:Appointment only
URL:https://uncashd.org/event/flu-vaccine-clinic-at-uhd/2024-11-28/
LOCATION:UNCAS HEALTH DISTRICT OFFICE\, Campbell Building\, 401 West Thames Street\, Norwich\, CT\, 06360\, United States
CATEGORIES:COVID-19 Vaccination,Flu Vaccination
GEO:41.5109705;-72.0854628
X-APPLE-STRUCTURED-LOCATION;VALUE=URI;X-ADDRESS=UNCAS HEALTH DISTRICT OFFICE Campbell Building 401 West Thames Street Norwich CT 06360 United States;X-APPLE-RADIUS=500;X-TITLE=Campbell Building\, 401 West Thames Street:geo:-72.0854628,41.5109705
END:VEVENT
BEGIN:VEVENT
DTSTART;VALUE=DATE:20241121
DTEND;VALUE=DATE:20241122
DTSTAMP:20260421T095521
CREATED:20230206T225757Z
LAST-MODIFIED:20251230T211909Z
UID:10000505-1732147200-1732233599@uncashd.org
SUMMARY:Flu Vaccine Clinic at UHD
DESCRIPTION:Appointment only
URL:https://uncashd.org/event/flu-vaccine-clinic-at-uhd/2024-11-21/
LOCATION:UNCAS HEALTH DISTRICT OFFICE\, Campbell Building\, 401 West Thames Street\, Norwich\, CT\, 06360\, United States
CATEGORIES:COVID-19 Vaccination,Flu Vaccination
GEO:41.5109705;-72.0854628
X-APPLE-STRUCTURED-LOCATION;VALUE=URI;X-ADDRESS=UNCAS HEALTH DISTRICT OFFICE Campbell Building 401 West Thames Street Norwich CT 06360 United States;X-APPLE-RADIUS=500;X-TITLE=Campbell Building\, 401 West Thames Street:geo:-72.0854628,41.5109705
END:VEVENT
BEGIN:VEVENT
DTSTART;VALUE=DATE:20241114
DTEND;VALUE=DATE:20241115
DTSTAMP:20260421T095521
CREATED:20230206T225757Z
LAST-MODIFIED:20251230T211909Z
UID:10000504-1731542400-1731628799@uncashd.org
SUMMARY:Flu Vaccine Clinic at UHD
DESCRIPTION:Appointment only
URL:https://uncashd.org/event/flu-vaccine-clinic-at-uhd/2024-11-14/
LOCATION:UNCAS HEALTH DISTRICT OFFICE\, Campbell Building\, 401 West Thames Street\, Norwich\, CT\, 06360\, United States
CATEGORIES:COVID-19 Vaccination,Flu Vaccination
GEO:41.5109705;-72.0854628
X-APPLE-STRUCTURED-LOCATION;VALUE=URI;X-ADDRESS=UNCAS HEALTH DISTRICT OFFICE Campbell Building 401 West Thames Street Norwich CT 06360 United States;X-APPLE-RADIUS=500;X-TITLE=Campbell Building\, 401 West Thames Street:geo:-72.0854628,41.5109705
END:VEVENT
BEGIN:VEVENT
DTSTART;VALUE=DATE:20241107
DTEND;VALUE=DATE:20241108
DTSTAMP:20260421T095521
CREATED:20230206T225757Z
LAST-MODIFIED:20251230T211909Z
UID:10000503-1730937600-1731023999@uncashd.org
SUMMARY:Flu Vaccine Clinic at UHD
DESCRIPTION:Appointment only
URL:https://uncashd.org/event/flu-vaccine-clinic-at-uhd/2024-11-07/
LOCATION:UNCAS HEALTH DISTRICT OFFICE\, Campbell Building\, 401 West Thames Street\, Norwich\, CT\, 06360\, United States
CATEGORIES:COVID-19 Vaccination,Flu Vaccination
GEO:41.5109705;-72.0854628
X-APPLE-STRUCTURED-LOCATION;VALUE=URI;X-ADDRESS=UNCAS HEALTH DISTRICT OFFICE Campbell Building 401 West Thames Street Norwich CT 06360 United States;X-APPLE-RADIUS=500;X-TITLE=Campbell Building\, 401 West Thames Street:geo:-72.0854628,41.5109705
END:VEVENT
BEGIN:VEVENT
DTSTART;VALUE=DATE:20241031
DTEND;VALUE=DATE:20241101
DTSTAMP:20260421T095521
CREATED:20230206T225757Z
LAST-MODIFIED:20251230T211909Z
UID:10000502-1730332800-1730419199@uncashd.org
SUMMARY:Flu Vaccine Clinic at UHD
DESCRIPTION:Appointment only
URL:https://uncashd.org/event/flu-vaccine-clinic-at-uhd/2024-10-31/
LOCATION:UNCAS HEALTH DISTRICT OFFICE\, Campbell Building\, 401 West Thames Street\, Norwich\, CT\, 06360\, United States
CATEGORIES:COVID-19 Vaccination,Flu Vaccination
GEO:41.5109705;-72.0854628
X-APPLE-STRUCTURED-LOCATION;VALUE=URI;X-ADDRESS=UNCAS HEALTH DISTRICT OFFICE Campbell Building 401 West Thames Street Norwich CT 06360 United States;X-APPLE-RADIUS=500;X-TITLE=Campbell Building\, 401 West Thames Street:geo:-72.0854628,41.5109705
END:VEVENT
BEGIN:VEVENT
DTSTART;VALUE=DATE:20241024
DTEND;VALUE=DATE:20241025
DTSTAMP:20260421T095521
CREATED:20230206T225757Z
LAST-MODIFIED:20251230T211909Z
UID:10000501-1729728000-1729814399@uncashd.org
SUMMARY:Flu Vaccine Clinic at UHD
DESCRIPTION:Appointment only
URL:https://uncashd.org/event/flu-vaccine-clinic-at-uhd/2024-10-24/
LOCATION:UNCAS HEALTH DISTRICT OFFICE\, Campbell Building\, 401 West Thames Street\, Norwich\, CT\, 06360\, United States
CATEGORIES:COVID-19 Vaccination,Flu Vaccination
GEO:41.5109705;-72.0854628
X-APPLE-STRUCTURED-LOCATION;VALUE=URI;X-ADDRESS=UNCAS HEALTH DISTRICT OFFICE Campbell Building 401 West Thames Street Norwich CT 06360 United States;X-APPLE-RADIUS=500;X-TITLE=Campbell Building\, 401 West Thames Street:geo:-72.0854628,41.5109705
END:VEVENT
BEGIN:VEVENT
DTSTART;VALUE=DATE:20241017
DTEND;VALUE=DATE:20241018
DTSTAMP:20260421T095521
CREATED:20230206T225757Z
LAST-MODIFIED:20251230T211909Z
UID:10000500-1729123200-1729209599@uncashd.org
SUMMARY:Flu Vaccine Clinic at UHD
DESCRIPTION:Appointment only
URL:https://uncashd.org/event/flu-vaccine-clinic-at-uhd/2024-10-17/
LOCATION:UNCAS HEALTH DISTRICT OFFICE\, Campbell Building\, 401 West Thames Street\, Norwich\, CT\, 06360\, United States
CATEGORIES:COVID-19 Vaccination,Flu Vaccination
GEO:41.5109705;-72.0854628
X-APPLE-STRUCTURED-LOCATION;VALUE=URI;X-ADDRESS=UNCAS HEALTH DISTRICT OFFICE Campbell Building 401 West Thames Street Norwich CT 06360 United States;X-APPLE-RADIUS=500;X-TITLE=Campbell Building\, 401 West Thames Street:geo:-72.0854628,41.5109705
END:VEVENT
BEGIN:VEVENT
DTSTART;VALUE=DATE:20241010
DTEND;VALUE=DATE:20241011
DTSTAMP:20260421T095521
CREATED:20230206T225757Z
LAST-MODIFIED:20251230T211909Z
UID:10000499-1728518400-1728604799@uncashd.org
SUMMARY:Flu Vaccine Clinic at UHD
DESCRIPTION:Appointment only
URL:https://uncashd.org/event/flu-vaccine-clinic-at-uhd/2024-10-10/
LOCATION:UNCAS HEALTH DISTRICT OFFICE\, Campbell Building\, 401 West Thames Street\, Norwich\, CT\, 06360\, United States
CATEGORIES:COVID-19 Vaccination,Flu Vaccination
GEO:41.5109705;-72.0854628
X-APPLE-STRUCTURED-LOCATION;VALUE=URI;X-ADDRESS=UNCAS HEALTH DISTRICT OFFICE Campbell Building 401 West Thames Street Norwich CT 06360 United States;X-APPLE-RADIUS=500;X-TITLE=Campbell Building\, 401 West Thames Street:geo:-72.0854628,41.5109705
END:VEVENT
BEGIN:VEVENT
DTSTART;VALUE=DATE:20241003
DTEND;VALUE=DATE:20241004
DTSTAMP:20260421T095521
CREATED:20230206T225757Z
LAST-MODIFIED:20251230T211909Z
UID:10000498-1727913600-1727999999@uncashd.org
SUMMARY:Flu Vaccine Clinic at UHD
DESCRIPTION:Appointment only
URL:https://uncashd.org/event/flu-vaccine-clinic-at-uhd/2024-10-03/
LOCATION:UNCAS HEALTH DISTRICT OFFICE\, Campbell Building\, 401 West Thames Street\, Norwich\, CT\, 06360\, United States
CATEGORIES:COVID-19 Vaccination,Flu Vaccination
GEO:41.5109705;-72.0854628
X-APPLE-STRUCTURED-LOCATION;VALUE=URI;X-ADDRESS=UNCAS HEALTH DISTRICT OFFICE Campbell Building 401 West Thames Street Norwich CT 06360 United States;X-APPLE-RADIUS=500;X-TITLE=Campbell Building\, 401 West Thames Street:geo:-72.0854628,41.5109705
END:VEVENT
BEGIN:VEVENT
DTSTART;VALUE=DATE:20240926
DTEND;VALUE=DATE:20240927
DTSTAMP:20260421T095521
CREATED:20230206T225757Z
LAST-MODIFIED:20251230T211909Z
UID:10000497-1727308800-1727395199@uncashd.org
SUMMARY:Flu Vaccine Clinic at UHD
DESCRIPTION:Appointment only
URL:https://uncashd.org/event/flu-vaccine-clinic-at-uhd/2024-09-26/
LOCATION:UNCAS HEALTH DISTRICT OFFICE\, Campbell Building\, 401 West Thames Street\, Norwich\, CT\, 06360\, United States
CATEGORIES:COVID-19 Vaccination,Flu Vaccination
GEO:41.5109705;-72.0854628
X-APPLE-STRUCTURED-LOCATION;VALUE=URI;X-ADDRESS=UNCAS HEALTH DISTRICT OFFICE Campbell Building 401 West Thames Street Norwich CT 06360 United States;X-APPLE-RADIUS=500;X-TITLE=Campbell Building\, 401 West Thames Street:geo:-72.0854628,41.5109705
END:VEVENT
BEGIN:VEVENT
DTSTART;VALUE=DATE:20240919
DTEND;VALUE=DATE:20240920
DTSTAMP:20260421T095521
CREATED:20230206T225757Z
LAST-MODIFIED:20251230T211909Z
UID:10000496-1726704000-1726790399@uncashd.org
SUMMARY:Flu Vaccine Clinic at UHD
DESCRIPTION:Appointment only
URL:https://uncashd.org/event/flu-vaccine-clinic-at-uhd/2024-09-19/
LOCATION:UNCAS HEALTH DISTRICT OFFICE\, Campbell Building\, 401 West Thames Street\, Norwich\, CT\, 06360\, United States
CATEGORIES:COVID-19 Vaccination,Flu Vaccination
GEO:41.5109705;-72.0854628
X-APPLE-STRUCTURED-LOCATION;VALUE=URI;X-ADDRESS=UNCAS HEALTH DISTRICT OFFICE Campbell Building 401 West Thames Street Norwich CT 06360 United States;X-APPLE-RADIUS=500;X-TITLE=Campbell Building\, 401 West Thames Street:geo:-72.0854628,41.5109705
END:VEVENT
BEGIN:VEVENT
DTSTART;VALUE=DATE:20240912
DTEND;VALUE=DATE:20240913
DTSTAMP:20260421T095521
CREATED:20230206T225757Z
LAST-MODIFIED:20251230T211909Z
UID:10000495-1726099200-1726185599@uncashd.org
SUMMARY:Flu Vaccine Clinic at UHD
DESCRIPTION:Appointment only
URL:https://uncashd.org/event/flu-vaccine-clinic-at-uhd/2024-09-12/
LOCATION:UNCAS HEALTH DISTRICT OFFICE\, Campbell Building\, 401 West Thames Street\, Norwich\, CT\, 06360\, United States
CATEGORIES:COVID-19 Vaccination,Flu Vaccination
GEO:41.5109705;-72.0854628
X-APPLE-STRUCTURED-LOCATION;VALUE=URI;X-ADDRESS=UNCAS HEALTH DISTRICT OFFICE Campbell Building 401 West Thames Street Norwich CT 06360 United States;X-APPLE-RADIUS=500;X-TITLE=Campbell Building\, 401 West Thames Street:geo:-72.0854628,41.5109705
END:VEVENT
BEGIN:VEVENT
DTSTART;VALUE=DATE:20240905
DTEND;VALUE=DATE:20240906
DTSTAMP:20260421T095521
CREATED:20230206T225757Z
LAST-MODIFIED:20251230T211909Z
UID:10000494-1725494400-1725580799@uncashd.org
SUMMARY:Flu Vaccine Clinic at UHD
DESCRIPTION:Appointment only
URL:https://uncashd.org/event/flu-vaccine-clinic-at-uhd/2024-09-05/
LOCATION:UNCAS HEALTH DISTRICT OFFICE\, Campbell Building\, 401 West Thames Street\, Norwich\, CT\, 06360\, United States
CATEGORIES:COVID-19 Vaccination,Flu Vaccination
GEO:41.5109705;-72.0854628
X-APPLE-STRUCTURED-LOCATION;VALUE=URI;X-ADDRESS=UNCAS HEALTH DISTRICT OFFICE Campbell Building 401 West Thames Street Norwich CT 06360 United States;X-APPLE-RADIUS=500;X-TITLE=Campbell Building\, 401 West Thames Street:geo:-72.0854628,41.5109705
END:VEVENT
BEGIN:VEVENT
DTSTART;VALUE=DATE:20240829
DTEND;VALUE=DATE:20240830
DTSTAMP:20260421T095521
CREATED:20230206T225757Z
LAST-MODIFIED:20251230T211909Z
UID:10000493-1724889600-1724975999@uncashd.org
SUMMARY:Flu Vaccine Clinic at UHD
DESCRIPTION:Appointment only
URL:https://uncashd.org/event/flu-vaccine-clinic-at-uhd/2024-08-29/
LOCATION:UNCAS HEALTH DISTRICT OFFICE\, Campbell Building\, 401 West Thames Street\, Norwich\, CT\, 06360\, United States
CATEGORIES:COVID-19 Vaccination,Flu Vaccination
GEO:41.5109705;-72.0854628
X-APPLE-STRUCTURED-LOCATION;VALUE=URI;X-ADDRESS=UNCAS HEALTH DISTRICT OFFICE Campbell Building 401 West Thames Street Norwich CT 06360 United States;X-APPLE-RADIUS=500;X-TITLE=Campbell Building\, 401 West Thames Street:geo:-72.0854628,41.5109705
END:VEVENT
BEGIN:VEVENT
DTSTART;VALUE=DATE:20240822
DTEND;VALUE=DATE:20240823
DTSTAMP:20260421T095521
CREATED:20230206T225757Z
LAST-MODIFIED:20251230T211909Z
UID:10000492-1724284800-1724371199@uncashd.org
SUMMARY:Flu Vaccine Clinic at UHD
DESCRIPTION:Appointment only
URL:https://uncashd.org/event/flu-vaccine-clinic-at-uhd/2024-08-22/
LOCATION:UNCAS HEALTH DISTRICT OFFICE\, Campbell Building\, 401 West Thames Street\, Norwich\, CT\, 06360\, United States
CATEGORIES:COVID-19 Vaccination,Flu Vaccination
GEO:41.5109705;-72.0854628
X-APPLE-STRUCTURED-LOCATION;VALUE=URI;X-ADDRESS=UNCAS HEALTH DISTRICT OFFICE Campbell Building 401 West Thames Street Norwich CT 06360 United States;X-APPLE-RADIUS=500;X-TITLE=Campbell Building\, 401 West Thames Street:geo:-72.0854628,41.5109705
END:VEVENT
BEGIN:VEVENT
DTSTART;VALUE=DATE:20240815
DTEND;VALUE=DATE:20240816
DTSTAMP:20260421T095521
CREATED:20230206T225757Z
LAST-MODIFIED:20251230T211909Z
UID:10000491-1723680000-1723766399@uncashd.org
SUMMARY:Flu Vaccine Clinic at UHD
DESCRIPTION:Appointment only
URL:https://uncashd.org/event/flu-vaccine-clinic-at-uhd/2024-08-15/
LOCATION:UNCAS HEALTH DISTRICT OFFICE\, Campbell Building\, 401 West Thames Street\, Norwich\, CT\, 06360\, United States
CATEGORIES:COVID-19 Vaccination,Flu Vaccination
GEO:41.5109705;-72.0854628
X-APPLE-STRUCTURED-LOCATION;VALUE=URI;X-ADDRESS=UNCAS HEALTH DISTRICT OFFICE Campbell Building 401 West Thames Street Norwich CT 06360 United States;X-APPLE-RADIUS=500;X-TITLE=Campbell Building\, 401 West Thames Street:geo:-72.0854628,41.5109705
END:VEVENT
END:VCALENDAR