BEGIN:VCALENDAR
VERSION:2.0
PRODID:-//Uncas Health District - ECPv6.15.20//NONSGML v1.0//EN
CALSCALE:GREGORIAN
METHOD:PUBLISH
X-WR-CALNAME:Uncas Health District
X-ORIGINAL-URL:https://uncashd.org
X-WR-CALDESC:Events for Uncas Health District
REFRESH-INTERVAL;VALUE=DURATION:PT1H
X-Robots-Tag:noindex
X-PUBLISHED-TTL:PT1H
BEGIN:VTIMEZONE
TZID:America/New_York
BEGIN:DAYLIGHT
TZOFFSETFROM:-0500
TZOFFSETTO:-0400
TZNAME:EDT
DTSTART:20240310T070000
END:DAYLIGHT
BEGIN:STANDARD
TZOFFSETFROM:-0400
TZOFFSETTO:-0500
TZNAME:EST
DTSTART:20241103T060000
END:STANDARD
BEGIN:DAYLIGHT
TZOFFSETFROM:-0500
TZOFFSETTO:-0400
TZNAME:EDT
DTSTART:20250309T070000
END:DAYLIGHT
BEGIN:STANDARD
TZOFFSETFROM:-0400
TZOFFSETTO:-0500
TZNAME:EST
DTSTART:20251102T060000
END:STANDARD
BEGIN:DAYLIGHT
TZOFFSETFROM:-0500
TZOFFSETTO:-0400
TZNAME:EDT
DTSTART:20260308T070000
END:DAYLIGHT
BEGIN:STANDARD
TZOFFSETFROM:-0400
TZOFFSETTO:-0500
TZNAME:EST
DTSTART:20261101T060000
END:STANDARD
END:VTIMEZONE
BEGIN:VEVENT
DTSTART;TZID=America/New_York:20250214T103000
DTEND;TZID=America/New_York:20250214T113000
DTSTAMP:20260422T064448
CREATED:20250131T184655Z
LAST-MODIFIED:20250131T184655Z
UID:10001250-1739529000-1739532600@uncashd.org
SUMMARY:Mobile Health Team in Bozrah
DESCRIPTION:The UNCAS Mobile Health Team is dedicated to bringing essential health services and education directly to our community. At every event\, we offer: \n  \nBlood pressure screening \nFlu vaccination \nIllness prevention guidance \nSmoking cessation resources \nHarm reduction services \nHepatitis C and HIV screening \nSyringe services \nWound care education \nSTI prevention education \nSeasonal health education tailored to current needs \nStop by and take advantage of these free services to support your health and wellness! \n 
URL:https://uncashd.org/event/mobile-health-team-in-bozrah/
LOCATION:Bozrah Senior Center\, 59 Bozrah St\, Bozrah\, 06334\, United States
CATEGORIES:Mobile Health Team Event
END:VEVENT
END:VCALENDAR