BEGIN:VCALENDAR
VERSION:2.0
PRODID:-//Uncas Health District - ECPv6.15.20//NONSGML v1.0//EN
CALSCALE:GREGORIAN
METHOD:PUBLISH
X-ORIGINAL-URL:https://uncashd.org
X-WR-CALDESC:Events for Uncas Health District
REFRESH-INTERVAL;VALUE=DURATION:PT1H
X-Robots-Tag:noindex
X-PUBLISHED-TTL:PT1H
BEGIN:VTIMEZONE
TZID:America/New_York
BEGIN:DAYLIGHT
TZOFFSETFROM:-0500
TZOFFSETTO:-0400
TZNAME:EDT
DTSTART:20230312T070000
END:DAYLIGHT
BEGIN:STANDARD
TZOFFSETFROM:-0400
TZOFFSETTO:-0500
TZNAME:EST
DTSTART:20231105T060000
END:STANDARD
BEGIN:DAYLIGHT
TZOFFSETFROM:-0500
TZOFFSETTO:-0400
TZNAME:EDT
DTSTART:20240310T070000
END:DAYLIGHT
BEGIN:STANDARD
TZOFFSETFROM:-0400
TZOFFSETTO:-0500
TZNAME:EST
DTSTART:20241103T060000
END:STANDARD
BEGIN:DAYLIGHT
TZOFFSETFROM:-0500
TZOFFSETTO:-0400
TZNAME:EDT
DTSTART:20250309T070000
END:DAYLIGHT
BEGIN:STANDARD
TZOFFSETFROM:-0400
TZOFFSETTO:-0500
TZNAME:EST
DTSTART:20251102T060000
END:STANDARD
END:VTIMEZONE
BEGIN:VEVENT
DTSTART;VALUE=DATE:20241017
DTEND;VALUE=DATE:20241018
DTSTAMP:20260420T120724
CREATED:20230206T225757Z
LAST-MODIFIED:20251230T211909Z
UID:10000500-1729123200-1729209599@uncashd.org
SUMMARY:Flu Vaccine Clinic at UHD
DESCRIPTION:Appointment only
URL:https://uncashd.org/event/flu-vaccine-clinic-at-uhd/2024-10-17/
LOCATION:UNCAS HEALTH DISTRICT OFFICE\, Campbell Building\, 401 West Thames Street\, Norwich\, CT\, 06360\, United States
CATEGORIES:COVID-19 Vaccination,Flu Vaccination
GEO:41.5109705;-72.0854628
X-APPLE-STRUCTURED-LOCATION;VALUE=URI;X-ADDRESS=UNCAS HEALTH DISTRICT OFFICE Campbell Building 401 West Thames Street Norwich CT 06360 United States;X-APPLE-RADIUS=500;X-TITLE=Campbell Building\, 401 West Thames Street:geo:-72.0854628,41.5109705
END:VEVENT
BEGIN:VEVENT
DTSTART;TZID=America/New_York:20241017T130000
DTEND;TZID=America/New_York:20241017T140000
DTSTAMP:20260420T120724
CREATED:20241001T192026Z
LAST-MODIFIED:20241001T192026Z
UID:10001145-1729170000-1729173600@uncashd.org
SUMMARY:Mobile Health Team Popup
DESCRIPTION:The Uncas Health District Mobile Health Team is offering: \n\nFlu Vaccines\nBlood Pressure Screening\nHepatitis C/HIV Screening\nSyringe Services\nWound Care Education\nInformation on additional health services\n\nFlu Shots Available on the Mobile Health Van \n\nFree for individuals with the following insurance:\n\nAnthem BC/BS\nCigna\nConnectiCare\nMedicare\nTriCare\nUnitedHealthcare\n\n\n$20 for the Standard Dose Flu Vaccine for those with other or no insurance\n$65 for the High Dose Flu Vaccine for those with other or no insurance
URL:https://uncashd.org/event/mobile-health-team-popup-24/
LOCATION:Preston Library\, 389 CT-2\, Preston\, CT\, 06365\, United States
CATEGORIES:Mobile Health Team Event
END:VEVENT
BEGIN:VEVENT
DTSTART;TZID=America/New_York:20241017T160000
DTEND;TZID=America/New_York:20241017T173000
DTSTAMP:20260420T120724
CREATED:20241001T192120Z
LAST-MODIFIED:20241001T192120Z
UID:10001146-1729180800-1729186200@uncashd.org
SUMMARY:Mobile Health Team Popup
DESCRIPTION:The Uncas Health District Mobile Health Team is offering: \n\nFlu Vaccines\nBlood Pressure Screening\nHepatitis C/HIV Screening\nSyringe Services\nWound Care Education\nInformation on additional health services\n\nFlu Shots Available on the Mobile Health Van \n\nFree for individuals with the following insurance:\n\nAnthem BC/BS\nCigna\nConnectiCare\nMedicare\nTriCare\nUnitedHealthcare\n\n\n$20 for the Standard Dose Flu Vaccine for those with other or no insurance\n$65 for the High Dose Flu Vaccine for those with other or no insurance
URL:https://uncashd.org/event/mobile-health-team-popup-25/
LOCATION:MOBILE FOOD PANTRY\, Griswold Public Works Route 138\, Griswold\, 1148 Voluntown Rd\, Griswold\, CT\, 06351\, United States
CATEGORIES:Mobile Health Team Event
END:VEVENT
END:VCALENDAR