BEGIN:VCALENDAR
VERSION:2.0
PRODID:-//Uncas Health District - ECPv6.15.20//NONSGML v1.0//EN
CALSCALE:GREGORIAN
METHOD:PUBLISH
X-ORIGINAL-URL:https://uncashd.org
X-WR-CALDESC:Events for Uncas Health District
REFRESH-INTERVAL;VALUE=DURATION:PT1H
X-Robots-Tag:noindex
X-PUBLISHED-TTL:PT1H
BEGIN:VTIMEZONE
TZID:America/New_York
BEGIN:DAYLIGHT
TZOFFSETFROM:-0500
TZOFFSETTO:-0400
TZNAME:EDT
DTSTART:20230312T070000
END:DAYLIGHT
BEGIN:STANDARD
TZOFFSETFROM:-0400
TZOFFSETTO:-0500
TZNAME:EST
DTSTART:20231105T060000
END:STANDARD
BEGIN:DAYLIGHT
TZOFFSETFROM:-0500
TZOFFSETTO:-0400
TZNAME:EDT
DTSTART:20240310T070000
END:DAYLIGHT
BEGIN:STANDARD
TZOFFSETFROM:-0400
TZOFFSETTO:-0500
TZNAME:EST
DTSTART:20241103T060000
END:STANDARD
BEGIN:DAYLIGHT
TZOFFSETFROM:-0500
TZOFFSETTO:-0400
TZNAME:EDT
DTSTART:20250309T070000
END:DAYLIGHT
BEGIN:STANDARD
TZOFFSETFROM:-0400
TZOFFSETTO:-0500
TZNAME:EST
DTSTART:20251102T060000
END:STANDARD
END:VTIMEZONE
BEGIN:VEVENT
DTSTART;TZID=America/New_York:20240814T140000
DTEND;TZID=America/New_York:20240814T150000
DTSTAMP:20260423T104859
CREATED:20240725T181719Z
LAST-MODIFIED:20240725T181719Z
UID:10001090-1723644000-1723647600@uncashd.org
SUMMARY:Mobile Health Team
DESCRIPTION:Offering flu vaccines\, blood pressure screening\, Hepatitis C / HIV screening\, syringe services\, wound care education\, and information about other health services provided by the Uncas Health District.
URL:https://uncashd.org/event/mobile-health-team-77/
LOCATION:Montville Town Hall\, 310 Norwich-New London Turnpike\, Uncasville\, 06382\, United States
CATEGORIES:Mobile Health Team Event
END:VEVENT
END:VCALENDAR